BEGIN:VCALENDAR
VERSION:2.0
PRODID:-//Facultad de Ciencia Política y RRII - UNR - ECPv6.6.0.2//NONSGML v1.0//EN
CALSCALE:GREGORIAN
METHOD:PUBLISH
X-ORIGINAL-URL:https://fcpolit.unr.edu.ar
X-WR-CALDESC:Eventos para Facultad de Ciencia Política y RRII - UNR
REFRESH-INTERVAL;VALUE=DURATION:PT1H
X-Robots-Tag:noindex
X-PUBLISHED-TTL:PT1H
BEGIN:VTIMEZONE
TZID:Europe/Madrid
BEGIN:DAYLIGHT
TZOFFSETFROM:+0100
TZOFFSETTO:+0200
TZNAME:CEST
DTSTART:20200329T010000
END:DAYLIGHT
BEGIN:STANDARD
TZOFFSETFROM:+0200
TZOFFSETTO:+0100
TZNAME:CET
DTSTART:20201025T010000
END:STANDARD
END:VTIMEZONE
BEGIN:VEVENT
DTSTART;TZID=Europe/Madrid:20200727T000000
DTEND;TZID=Europe/Madrid:20200821T235900
DTSTAMP:20260419T140135
CREATED:20200611T214021Z
LAST-MODIFIED:20200708T201857Z
UID:9970-1595808000-1598054340@fcpolit.unr.edu.ar
SUMMARY:Inscripción a Materias del 2° cuatrimestre
DESCRIPTION:Desde el 27/07 al 21/08 se habilitará a través de Guaraní la Inscripción a Materias del 2° cuatrimestre para todas nuestras carreras de grado con excepción de la Lic. en Turismo.
URL:https://fcpolit.unr.edu.ar/event/inscripcion-materias-del-2-cuatrimestre/
CATEGORIES:Calendario Académico,Destacado
END:VEVENT
BEGIN:VEVENT
DTSTART;TZID=Europe/Madrid:20200727T080000
DTEND;TZID=Europe/Madrid:20200814T190000
DTSTAMP:20260419T140135
CREATED:20200611T214223Z
LAST-MODIFIED:20200719T232723Z
UID:9972-1595836800-1597431600@fcpolit.unr.edu.ar
SUMMARY:Exámenes Turno Julio/Agosto 1° Llamado
DESCRIPTION:El primer llamado del turno Julio/Agosto se extenderá del 127 de Julio al 14 de Agosto. \nLa inscripción se habilitará en el Sistema Guaraní 7 días previos de la fecha en que se sustancia el examen. \nNo te olvides que cierra 72 horas hábiles antes y es necesario que guardes el comprobante de inscripción. \n  \n 
URL:https://fcpolit.unr.edu.ar/event/examenes-turno-julio/
CATEGORIES:Calendario Académico,Destacado
END:VEVENT
END:VCALENDAR