BEGIN:VCALENDAR
VERSION:2.0
PRODID:-//Facultad de Ciencia Política y RRII - UNR - ECPv6.6.0.2//NONSGML v1.0//EN
CALSCALE:GREGORIAN
METHOD:PUBLISH
X-ORIGINAL-URL:https://fcpolit.unr.edu.ar
X-WR-CALDESC:Eventos para Facultad de Ciencia Política y RRII - UNR
REFRESH-INTERVAL;VALUE=DURATION:PT1H
X-Robots-Tag:noindex
X-PUBLISHED-TTL:PT1H
BEGIN:VTIMEZONE
TZID:Europe/Madrid
BEGIN:DAYLIGHT
TZOFFSETFROM:+0100
TZOFFSETTO:+0200
TZNAME:CEST
DTSTART:20200329T010000
END:DAYLIGHT
BEGIN:STANDARD
TZOFFSETFROM:+0200
TZOFFSETTO:+0100
TZNAME:CET
DTSTART:20201025T010000
END:STANDARD
TZID:America/Argentina/Buenos_Aires
BEGIN:STANDARD
TZOFFSETFROM:-0300
TZOFFSETTO:-0300
TZNAME:-03
DTSTART:20200101T000000
END:STANDARD
END:VTIMEZONE
BEGIN:VEVENT
DTSTART;TZID=Europe/Madrid:20200810T110000
DTEND;TZID=Europe/Madrid:20201012T120000
DTSTAMP:20260423T172850
CREATED:20200627T081445Z
LAST-MODIFIED:20200627T081445Z
UID:44150-1597057200-1602504000@fcpolit.unr.edu.ar
SUMMARY:Los sentidos del encierro. Prácticas\,  identidades y territorios en disputa
DESCRIPTION:Docentes: Mar{a Chipponi y Mauricio Manchado \nFecha: 10 de agosto de 2020 \nDuración: 9 semanas \n  \nFundamentación: \nEn las sociedades contemporáneas -modernas\, pos-modernas\, fluidas\, posfordistas\, etc.-\, se vuelve indispensable la discusión en torno a las instituciones\, los territorios\, los sujetos y las clasificaciones que estas producen desde una perspectiva que trascienda la mirada esencialista. La prisión es una de esas instituciones que\, a pesar de su marginalidad política\, opera casi silenciosamente produciendo operaciones simbólicas sobre quiénes transitan la privación de la libertad ambulatoria. Calificaciones que no están escindidas de un régimen de nominación y valoraciones previas al encierro\, pero que en dichas circunstancias se intensifican. \nLa prisión moderna ha estado\, desde su nacimiento\, ligada al modelo de encierro correccional cuyos principios básicos incluyen a la familia\, el trabajo y la educación -entre otros- como elementos fundantes de un dispositivo que busca la rehabilitación de quienes desviaron el camino de la normalidad societaria. Pretensión que se ha ido mixturando con la lógica depositaria\, que concibe a los sujetos sociales como “desechos”\, descarte\, osupernumerarios. \nSin embargo\, las discursividades en torno a la prisión y los/las prisioneros no puede ligarse exclusivamente a lo producido por dicha agencia penal\, sino comprendido en una trama de sentidos más amplia donde los medios de comunicación ocupan un lugar central. Estos han sido y son un dispositivo de poder que entrelazan –y producen- un conjunto de representaciones sociales en torno a lo desconocido. Por tanto\, partiendo de dicha afirmación\, nos preguntaremos también cuáles son los imaginarios que el dispositivo mediático construye sobre sujetos que\, por distintas razones\, condiciones o disposiciones transitan una situación de encierro. Y sobre ese gran interrogante\, emergen otras preguntas que procuramos transitar: ¿Qué es un espacio de encierro? ¿Cuáles son las identidades asignadas sobre quiénes dejan de ser vistos? ¿Cuáles son los recursos narrativos utilizados para hablar del encierro y sus sujetos? ¿Existe un solo encierro? Y por tanto ¿es posible pensar que hay una sola forma de contarlo? Las identidades son\, a fin de cuentas\, una construcción siempre inestable donde el dispositivo mediático puede ser un discurso más de su esencialización o un modo de complejizar y discutir nuestros imaginarios en torno a lo desconocido. \nEn ese sentido\, este curso también se propone problematizar sobre las prácticas en diferentes territorios\, desde la idea del nomadismo o del migrante disciplinar que funda la lógica del encuentro\, que sale a la búsqueda del lazo social y se deja permear por los interrogantes de cada recorrido. Para ello\, procuramos que la producción del conocimiento amplié sus horizontes a través de abordar las conceptualizaciones acerca de la intervención institucional y su abordaje analítico: herramientas metodológicas de diagnóstico; cartografía y recursos críticos para la creación de nuevos mapas y narrativas. Allí el trabajo en las instituciones\, los oficios del lazo\, la justicia cultural\, y la perspectiva cartográfica serán abordajes
URL:https://fcpolit.unr.edu.ar/event/los-sentidos-del-encierro-practicas-identidades-y-territorios-en-disputa/
LOCATION:Comunidades UNR
CATEGORIES:EVAC
END:VEVENT
BEGIN:VEVENT
DTSTART;TZID=America/Argentina/Buenos_Aires:20200818T080000
DTEND;TZID=America/Argentina/Buenos_Aires:20200911T200000
DTSTAMP:20260423T172850
CREATED:20200812T184445Z
LAST-MODIFIED:20200812T184831Z
UID:45404-1597737600-1599854400@fcpolit.unr.edu.ar
SUMMARY:Inscripción excepcional a adscripciones
DESCRIPTION:En consonancia con lo dispuesto por las autoridades de nuestra Facultad\, en cuanto a la utilización de recursos digitales por parte de los equipos docentes y algunas áreas de gestión institucional\, la Dirección de Concursos\, Tesinas y Carrera Docente\, resuelve admitir\, respetando el calendario académico\, desde el 18 de Agosto hasta el 11 de Septiembre\, en calidad de adscriptos (para materias del 2° cuatrimestre) a aquellos interesados que\, tal como lo establece el reglamento vigente\, cumplan con los requisitos exigidos y el aval del profesor titular o adjunto.  \nEn este período se podrán adscribir a materias pertenecientes al 2° cuatrimestre. \nEsta decisión se sostiene en la posibilidad de desarrollar la tarea como tales\, desde las plataformas virtuales disponibles y las herramientas digitales que las distintas cátedras pondrán a disposición de los alumnos\, con el objetivo de comenzar las actividades académicas del corriente ciclo lectivo. \nA tal efecto\, los interesados deberán dirigirse al correo de esta Dirección (direccionconcursos@fcpolit.unr.edu.ar) adjuntando la solicitud\, que deberá descargar en la sección Docentes-Concursos de la página de la Facultad\, una foto o escaneo del título o certificado de título en trámite\, C.V. y copia del correo electrónico mediante el cual el docente accede a sumarlo en condición de adscripto a su cátedra. \nUna vez normalizadas las actividades de la Facultad se requerirá la presentación en papel de la solicitud con la firma original del docente.
URL:https://fcpolit.unr.edu.ar/event/inscripcion-excepcional-a-adscripciones-2/
CATEGORIES:Concurso,Destacado
END:VEVENT
BEGIN:VEVENT
DTSTART;TZID=America/Argentina/Buenos_Aires:20200908T030000
DTEND;TZID=America/Argentina/Buenos_Aires:20200908T170000
DTSTAMP:20260423T172850
CREATED:20200901T141718Z
LAST-MODIFIED:20200901T141817Z
UID:46087-1599534000-1599584400@fcpolit.unr.edu.ar
SUMMARY:Webinar: Diálogos sobre la Participación Ciudadana en el Cono Sur
DESCRIPTION:El Grupo de Trabajos CLACSO Procesos y metodologías participativas y la Red Sentipensante tienen el agrado de invitarlos a un nuevo Webinar de su ciclo Reflexionando sobre Metodologías y Procesos Participativos en Tiempos de Crisis. En esta ocasión la jornada se denomina Diálogos sobre la Participación Ciudadana en el Cono Sur: aprendizajes pandémicos. \nLa actividad es organizada desde la Facultad de Ciencia Política y RR.II. de la Universidad de Rosario (Argentina) y desde la UdelaR – Cenur del Litoral (Uruguay). \nLa propuesta está orientada a dialogar sobre la participación en nuestros países en el contexto de aislamiento\, los límites y las oportunidades de los formatos virtuales y los escenarios posibles y deseables en relación a la participación en la postpandemia. \nEl Webinar contará con la moderación de Natalie Robaina (GEPADE-Uruguay) y con los siguientes panelistas:  Yves Cabannes (Inglaterra); Adalmir Marquetti (Brasil); Mariano Suárez (Uruguay); Gisela Signorelli (Argentina); Fernanda Palacios (Chile). \nLa propuesta es generar un diálogo a partir de preguntas disparadoras que los panelistas irán respondiendo y luego de ello se abrirá un espacio para preguntas de los asistentes. La duración total es de aproximadamente una hora y media. \nSe podrá participar a través de Zoom inscribiéndose previamente (les llegará el link el día de la reunión) o a través del canal de YouTube «Sede Salto – Cenur Litoral Norte – Udelar» \nLink para inscripción: https://docs.google.com/forms/d/19IQsiUOAys3LK5lSf5dpBR29-RYoh1mT37hkD6L584s/edit
URL:https://fcpolit.unr.edu.ar/event/webinar-dialogos-sobre-la-participacion-ciudadana-en-el-cono-sur/
CATEGORIES:Destacado
END:VEVENT
BEGIN:VEVENT
DTSTART;TZID=America/Argentina/Buenos_Aires:20200908T170000
DTEND;TZID=America/Argentina/Buenos_Aires:20200908T190000
DTSTAMP:20260423T172850
CREATED:20200828T161126Z
LAST-MODIFIED:20200831T135448Z
UID:45994-1599584400-1599591600@fcpolit.unr.edu.ar
SUMMARY:Regulaciones del ciberespacio: conectividad como Derecho Humano
DESCRIPTION:La cátedra de Política y Derecho a la Comunicación de nuestra Licenciatura en Comunicación Social\, organiza una videoconferencia dedicada a debatir el acceso a Internet como Derecho Humano y Servicio Universal. \nParticipará de la conversación Pablo Carro\, Diputado Nacional y uno de los impulsores del DNU de Derecho a la Conectividad que hace tan solo días anunció el Gobierno Nacional. \nModera el actual Subsecretario de Innovación Sociocultural de la Provincia de Santa Fe y exvicerector de la UNR\, Fabián Bicciré; y presentarán al invitado\, nuestro Decano\, Gustavo Marini\, y la Directora de la Escuela de Comunicación Social\, Silvana Comba. \nLa transmisión de la conferencia se emitirá por el canal de Youtube de la Fcpolit. \nRecordá: el evento tendrá lugar el próximo martes 8 de septiembre a las 17 hs. \nAuspicia: Radio UNR – 103.3 / Invita: Cátedra de Prácticas comunitarias de comunicación en dispositivos de salud \n\nSobre el invitado: \nPablo Carro es Diputado Nacional por Córdoba desde el año 2017 y es docente e investigador en la Facultad de Ciencias de la Comunicación de la UNC. Obtuvo el título de Magister en Comunicación y Cultura en el Centro de Estudios Avanzados de la UNC y luego el Máster en Ciencia Política en la Universidad de Santiago de Compostela (España). \nEn la actualidad preside la Comisión de Comunicaciones e Informática de la Cámara de Diputados de la Nación. \nEntre 2011 y 2017 fue Secretario General de la Asociación de Docentes e Investigadores Universitarios de Córdoba (ADIUC)\, y desde 2014 es secretario general de la CTA de los Trabajadores de Córdoba.
URL:https://fcpolit.unr.edu.ar/event/regulaciones-del-ciberespacio-conectividad-como-derecho-humano/
LOCATION:Youtube
CATEGORIES:Destacado
END:VEVENT
END:VCALENDAR