BEGIN:VCALENDAR
VERSION:2.0
PRODID:-//Facultad de Ciencia Política y RRII - UNR - ECPv6.6.0.2//NONSGML v1.0//EN
CALSCALE:GREGORIAN
METHOD:PUBLISH
X-ORIGINAL-URL:https://fcpolit.unr.edu.ar
X-WR-CALDESC:Eventos para Facultad de Ciencia Política y RRII - UNR
REFRESH-INTERVAL;VALUE=DURATION:PT1H
X-Robots-Tag:noindex
X-PUBLISHED-TTL:PT1H
BEGIN:VTIMEZONE
TZID:Europe/Madrid
BEGIN:DAYLIGHT
TZOFFSETFROM:+0100
TZOFFSETTO:+0200
TZNAME:CEST
DTSTART:20200329T010000
END:DAYLIGHT
BEGIN:STANDARD
TZOFFSETFROM:+0200
TZOFFSETTO:+0100
TZNAME:CET
DTSTART:20201025T010000
END:STANDARD
TZID:America/Argentina/Buenos_Aires
BEGIN:STANDARD
TZOFFSETFROM:-0300
TZOFFSETTO:-0300
TZNAME:-03
DTSTART:20200101T000000
END:STANDARD
END:VTIMEZONE
BEGIN:VEVENT
DTSTART;TZID=Europe/Madrid:20200914T100000
DTEND;TZID=Europe/Madrid:20201116T110000
DTSTAMP:20260420T101656
CREATED:20200627T030900Z
LAST-MODIFIED:20200824T205024Z
UID:44111-1600077600-1605524400@fcpolit.unr.edu.ar
SUMMARY:Comunicación y Feminismo: herramientas para transformarlo todo
DESCRIPTION:Docentes: Mariangeles Camusso y Lucía Figueroa \nFecha: Inicia el 14 de Septiembre \nDuración: 9 semanas \n  \nFundamentación: \nLos medios de comunicación tradicionales y los nuevos medios\, la cartelería “de lo que sea”\, la publicidad\, las pantallas\, las exposiciones y muestras\, todos los sitios de Internet\, las conversaciones con colegas\, clientes\, compañeres de trabajo\, los comunicados de prensa\, la producción cultural\, el viaje en colectivo\, y un interminable etcéteras son dispositivos a través de los cuales construimos\, circulamos y disputamos sentidos. \nCon esta propuesta\, proponemos reflexionar sobre los mecanismos formales y simbólicos que organizan nuestra comprensión del mundo cargados de sentidos comunes y estereotipias que\, paradójicamente\, se vuelven “naturales” e invisibles: ¿Cómo nombramos a quienes nombramos? ¿Cómo hablamos de las personas\, sus cuerpos y sexualidades? ¿Quién es quién en las imágenes que ponemos en circulación? ¿Qué paisajes visuales construimos? ¿Qué cuerpos mostramos y de qué manera? ¿Cómo construimos imágenes y las hacemos comprensibles? \nProponemos compartir herramientas para la construcción de estrategias de comunicación no sexistas\, plurales y transformadoras. Partiremos de un recorrido a través de conceptos básicos de los feminismos y sus revisiones críticas hacia las teorías de la comunicación para avanzar  posteriormente con una serie de ejercicios prácticos que nos permita tanto analizar las producciones comunicacionales que consumimos\, utilizamos y/o producimos como desarrollar propuestas innovadoras libres de violencias simbólicas. \n 
URL:https://fcpolit.unr.edu.ar/event/evac-feminismo/
LOCATION:Comunidades UNR
CATEGORIES:EVAC
END:VEVENT
BEGIN:VEVENT
DTSTART;TZID=America/Argentina/Buenos_Aires:20201022T140000
DTEND;TZID=America/Argentina/Buenos_Aires:20201022T160000
DTSTAMP:20260420T101656
CREATED:20201012T153118Z
LAST-MODIFIED:20201022T140258Z
UID:47542-1603375200-1603382400@fcpolit.unr.edu.ar
SUMMARY:Seminario Conflictos Políticos del Agua
DESCRIPTION:La Cátedra Libre del Agua invita a la Conferencia: Desprivaticemos los bienes comunes.  \nLa misma contará con la disertación de la Socióloga Alcira Argumedo y el Especialista del Agua y el Ambiente\, Dr. Anibal Faccendini. \nLa actividad se enmarca dentro del Seminario: Conflictos Políticos del Agua de la FCPOLIT UNR. \nLa cita es el 22 de octubre a las 14 horas. Enlace de acceso: meet.google.com/zpw-wtog-mpw \nInteresados e interesadas en participar deben enviar un correo a la casilla: catedradelagua@yahoo.com.ar
URL:https://fcpolit.unr.edu.ar/event/seminario-conflictos-politicos-del-agua/
LOCATION:Google Meet
CATEGORIES:Destacado
END:VEVENT
END:VCALENDAR