BEGIN:VCALENDAR
VERSION:2.0
PRODID:-//Facultad de Ciencia Política y RRII - UNR - ECPv6.6.0.2//NONSGML v1.0//EN
CALSCALE:GREGORIAN
METHOD:PUBLISH
X-ORIGINAL-URL:https://fcpolit.unr.edu.ar
X-WR-CALDESC:Eventos para Facultad de Ciencia Política y RRII - UNR
REFRESH-INTERVAL;VALUE=DURATION:PT1H
X-Robots-Tag:noindex
X-PUBLISHED-TTL:PT1H
BEGIN:VTIMEZONE
TZID:America/Argentina/Buenos_Aires
BEGIN:STANDARD
TZOFFSETFROM:-0300
TZOFFSETTO:-0300
TZNAME:-03
DTSTART:20220101T000000
END:STANDARD
END:VTIMEZONE
BEGIN:VEVENT
DTSTART;VALUE=DATE:20220314
DTEND;VALUE=DATE:20220708
DTSTAMP:20260420T104034
CREATED:20220218T121624Z
LAST-MODIFIED:20220218T121722Z
UID:60001-1647216000-1657238399@fcpolit.unr.edu.ar
SUMMARY:Inicio dictado de clases
DESCRIPTION:El dictado de clases del primer cuatrimestre será del 14 de marzo al 24 de junio. \n1er año de Comunicación Social\, Trabajo Social y Prof. de Comunicación Educativa inician también el lunes 14/03 y finalizan el 08/07. \nConocé el día y horario de cursado de cada materia en Bedelía Virtual 
URL:https://fcpolit.unr.edu.ar/event/inicio-dictado-de-clases/
CATEGORIES:Destacado
ATTACH;FMTTYPE=image/jpeg:https://fcpolit.unr.edu.ar/wp-content/uploads/2021/12/agenda-1280x720x80xX.jpg
END:VEVENT
BEGIN:VEVENT
DTSTART;TZID=America/Argentina/Buenos_Aires:20220418T150000
DTEND;TZID=America/Argentina/Buenos_Aires:20220418T170000
DTSTAMP:20260420T104034
CREATED:20220413T123750Z
LAST-MODIFIED:20220413T123750Z
UID:62094-1650294000-1650301200@fcpolit.unr.edu.ar
SUMMARY:La Guerra Rusia-Ucrania y sus implicancias en las RRII
DESCRIPTION:Conversatorio organizado por el CIPEI\, Centro de Investigación en Política y Economía Internacional. \n¿Cuándo? 18/04/2022 15hs ¿Dónde? SUM Aulario Fcpolit y transmitido en vivo por canal de YouTube  https://www.youtube.com/user/FCPolitUNR \nInscripciones en http://bit.ly/conversatorioCIPEI…\nSe entregarán certificados para quienes asistan de forma presencial. 
URL:https://fcpolit.unr.edu.ar/event/la-guerra-rusia-ucrania-y-sus-implicancias-en-las-rrii/
CATEGORIES:Destacado
END:VEVENT
END:VCALENDAR