BEGIN:VCALENDAR
VERSION:2.0
PRODID:-//Facultad de Ciencia Política y RRII - UNR - ECPv6.6.0.2//NONSGML v1.0//EN
CALSCALE:GREGORIAN
METHOD:PUBLISH
X-ORIGINAL-URL:https://fcpolit.unr.edu.ar
X-WR-CALDESC:Eventos para Facultad de Ciencia Política y RRII - UNR
REFRESH-INTERVAL;VALUE=DURATION:PT1H
X-Robots-Tag:noindex
X-PUBLISHED-TTL:PT1H
BEGIN:VTIMEZONE
TZID:America/Argentina/Buenos_Aires
BEGIN:STANDARD
TZOFFSETFROM:-0300
TZOFFSETTO:-0300
TZNAME:-03
DTSTART:20220101T000000
END:STANDARD
END:VTIMEZONE
BEGIN:VEVENT
DTSTART;TZID=America/Argentina/Buenos_Aires:20220711T080000
DTEND;TZID=America/Argentina/Buenos_Aires:20220722T170000
DTSTAMP:20260420T004511
CREATED:20220707T144204Z
LAST-MODIFIED:20220725T145702Z
UID:64470-1657526400-1658509200@fcpolit.unr.edu.ar
SUMMARY:Receso invernal
DESCRIPTION:Informamos que del 11 al 22 de julio nuestra Facultad permanecerá cerrada por el receso invernal. \n 
URL:https://fcpolit.unr.edu.ar/event/receso-invernal-2/
CATEGORIES:Destacado
END:VEVENT
END:VCALENDAR