BEGIN:VCALENDAR
VERSION:2.0
PRODID:-//Facultad de Ciencia Política y RRII - UNR - ECPv6.6.0.2//NONSGML v1.0//EN
CALSCALE:GREGORIAN
METHOD:PUBLISH
X-ORIGINAL-URL:https://fcpolit.unr.edu.ar
X-WR-CALDESC:Eventos para Facultad de Ciencia Política y RRII - UNR
REFRESH-INTERVAL;VALUE=DURATION:PT1H
X-Robots-Tag:noindex
X-PUBLISHED-TTL:PT1H
BEGIN:VTIMEZONE
TZID:America/Argentina/Buenos_Aires
BEGIN:STANDARD
TZOFFSETFROM:-0300
TZOFFSETTO:-0300
TZNAME:-03
DTSTART:20220101T000000
END:STANDARD
END:VTIMEZONE
BEGIN:VEVENT
DTSTART;TZID=America/Argentina/Buenos_Aires:20220725T080000
DTEND;TZID=America/Argentina/Buenos_Aires:20220725T200000
DTSTAMP:20260420T135655
CREATED:20220707T153029Z
LAST-MODIFIED:20220708T142310Z
UID:62932-1658736000-1658779200@fcpolit.unr.edu.ar
SUMMARY:Mesas de exámenes: 1° llamado julio/agosto
DESCRIPTION:A partir del 25/07/2022 se sustanciaran las mesas de exámenes del primer llamado de julio/agosto \n+ info https://fcpolit.unr.edu.ar/examenes/
URL:https://fcpolit.unr.edu.ar/event/mesas-de-examenes-1-llamado-julio-agosto/
CATEGORIES:Destacado
END:VEVENT
END:VCALENDAR