BEGIN:VCALENDAR
VERSION:2.0
PRODID:-//Facultad de Ciencia Política y RRII - UNR - ECPv6.6.0.2//NONSGML v1.0//EN
CALSCALE:GREGORIAN
METHOD:PUBLISH
X-ORIGINAL-URL:https://fcpolit.unr.edu.ar
X-WR-CALDESC:Eventos para Facultad de Ciencia Política y RRII - UNR
REFRESH-INTERVAL;VALUE=DURATION:PT1H
X-Robots-Tag:noindex
X-PUBLISHED-TTL:PT1H
BEGIN:VTIMEZONE
TZID:America/Argentina/Buenos_Aires
BEGIN:STANDARD
TZOFFSETFROM:-0300
TZOFFSETTO:-0300
TZNAME:-03
DTSTART:20220101T000000
END:STANDARD
END:VTIMEZONE
BEGIN:VEVENT
DTSTART;TZID=America/Argentina/Buenos_Aires:20220727T080000
DTEND;TZID=America/Argentina/Buenos_Aires:20220819T170000
DTSTAMP:20260420T162139
CREATED:20220708T143532Z
LAST-MODIFIED:20220708T144435Z
UID:64466-1658908800-1660928400@fcpolit.unr.edu.ar
SUMMARY:Inscripción materias segundo cuatrimestre
DESCRIPTION:La inscripción a las materias va a estar abierta por Sistema Guaraní del 27 de julio al 19 de agosto. \nPara consultar  todos los horarios actualizados ingresa a Bedelía Virtual\, podes filtrar por carrera\, año y materia.
URL:https://fcpolit.unr.edu.ar/event/inscripcion-materias-segundo-cuatrimestre/
CATEGORIES:Destacado
END:VEVENT
BEGIN:VEVENT
DTSTART;TZID=America/Argentina/Buenos_Aires:20220728T100000
DTEND;TZID=America/Argentina/Buenos_Aires:20220728T180000
DTSTAMP:20260420T162139
CREATED:20220724T141251Z
LAST-MODIFIED:20220725T145609Z
UID:64327-1659002400-1659031200@fcpolit.unr.edu.ar
SUMMARY:Encuentro de capacitación del agua\, clima y consumidor
DESCRIPTION:En conmemoración del día Mundial de Rosario del Derecho Humano al Agua el jueves 28 de julio se llevarán a cabo el  3er y 4to encuentro de capacitación de las Escuelas Itinerantes del Agua\, Clima y Consumidor. Los mismos serán de carácter presencial\, gratuitos y se realizarán en: \n\nEscuela Provincia de Corrientes\, Ameghino 1071\, 10 hs.\nEscuela Ética\, Somaza 3075\, 18 hs.\n\nInformes e inscripción:  \nMail: catedradelagua@yahoo.com.ar\nWhatsapp: 341-5523957
URL:https://fcpolit.unr.edu.ar/event/encuentro-de-capacitacion-del-agua-clima-y-consumidor/
CATEGORIES:Destacado
END:VEVENT
END:VCALENDAR