BEGIN:VCALENDAR
VERSION:2.0
PRODID:-//Facultad de Ciencia Política y RRII - UNR - ECPv6.6.0.2//NONSGML v1.0//EN
CALSCALE:GREGORIAN
METHOD:PUBLISH
X-WR-CALNAME:Facultad de Ciencia Política y RRII - UNR
X-ORIGINAL-URL:https://fcpolit.unr.edu.ar
X-WR-CALDESC:Eventos para Facultad de Ciencia Política y RRII - UNR
REFRESH-INTERVAL;VALUE=DURATION:PT1H
X-Robots-Tag:noindex
X-PUBLISHED-TTL:PT1H
BEGIN:VTIMEZONE
TZID:America/Argentina/Buenos_Aires
BEGIN:STANDARD
TZOFFSETFROM:-0300
TZOFFSETTO:-0300
TZNAME:-03
DTSTART:20220101T000000
END:STANDARD
END:VTIMEZONE
BEGIN:VEVENT
DTSTART;TZID=America/Argentina/Buenos_Aires:20220901T190000
DTEND;TZID=America/Argentina/Buenos_Aires:20220901T200000
DTSTAMP:20260420T114024
CREATED:20220825T141932Z
LAST-MODIFIED:20220825T142123Z
UID:65388-1662058800-1662062400@fcpolit.unr.edu.ar
SUMMARY:Presentación del libro: "Híbrida. Enseñar en la universidad que no vimos venir" de Mariana Maggio.
DESCRIPTION:Les extendemos la invitación a toda la comunidad  Fcpolit a la presentación del libro de la Dra. Mariana Maggio. La misma se realizará en el marco de la conferencia de apertura de la cohorte IV de la Diplomatura de Estudios Avanzados en Entornos Virtuales de Enseñanza y Aprendizaje de la Fcpolit y tendrá lugar el próximo jueves 1 de Septiembre\, a las 19 hs. \nPodrás verla por el Canal de Youtube del Campus Virtual. \n¡Agendate el evento! 
URL:https://fcpolit.unr.edu.ar/event/presentacion-del-libro-hibrida-ensenar-en-la-universidad-que-no-vimos-venir-de-mariana-maggio/
LOCATION:Youtube
CATEGORIES:Destacado
END:VEVENT
END:VCALENDAR