BEGIN:VCALENDAR
VERSION:2.0
PRODID:-//Facultad de Ciencia Política y RRII - UNR - ECPv6.6.0.2//NONSGML v1.0//EN
CALSCALE:GREGORIAN
METHOD:PUBLISH
X-WR-CALNAME:Facultad de Ciencia Política y RRII - UNR
X-ORIGINAL-URL:https://fcpolit.unr.edu.ar
X-WR-CALDESC:Eventos para Facultad de Ciencia Política y RRII - UNR
REFRESH-INTERVAL;VALUE=DURATION:PT1H
X-Robots-Tag:noindex
X-PUBLISHED-TTL:PT1H
BEGIN:VTIMEZONE
TZID:America/Argentina/Buenos_Aires
BEGIN:STANDARD
TZOFFSETFROM:-0300
TZOFFSETTO:-0300
TZNAME:-03
DTSTART:20220101T000000
END:STANDARD
END:VTIMEZONE
BEGIN:VEVENT
DTSTART;TZID=America/Argentina/Buenos_Aires:20220914T080000
DTEND;TZID=America/Argentina/Buenos_Aires:20220914T200000
DTSTAMP:20260421T075355
CREATED:20220907T140107Z
LAST-MODIFIED:20220907T142702Z
UID:65852-1663142400-1663185600@fcpolit.unr.edu.ar
SUMMARY:Jornadas “Con vos y tu voz en la UNR. Hacia un nuevo modelo de enseñanza y aprendizaje”.
DESCRIPTION:El día Miércoles 14 de Septiembre se realizará en todas la sedes de las distintas unidades Académicas de la UNR\, la Jornada «Con vos y tu Voz en la UNR. Hacia un nuevo modelo de enseñanza y aprendizaje.  \nEl objetivo de estos encuentros buscan recabar y visibilizar el parecer de nuestras y nuestros estudiantes acerca de la construcción de un nuevo modelo pedagógico y de las experiencias transitadas en la Universidad durante la pandemia. \nDesde el Área Académica y de Aprendizaje y otras áreas de gestión de la Universidad\, invitamos a todo el cuerpo estudiantil a  participar de una encuesta en formato on-line y a una clase abierta de carácter presencial y así poder intercambiar diálogos y experiencias del estudiantado de las distintas Facultades.
URL:https://fcpolit.unr.edu.ar/event/jornadas-con-vos-y-tu-voz-en-la-unr-hacia-un-nuevo-modelo-de-ensenanza-y-aprendizaje/
LOCATION:fcpolit
CATEGORIES:Destacado
END:VEVENT
END:VCALENDAR