BEGIN:VCALENDAR
VERSION:2.0
PRODID:-//Facultad de Ciencia Política y RRII - UNR - ECPv6.6.0.2//NONSGML v1.0//EN
CALSCALE:GREGORIAN
METHOD:PUBLISH
X-WR-CALNAME:Facultad de Ciencia Política y RRII - UNR
X-ORIGINAL-URL:https://fcpolit.unr.edu.ar
X-WR-CALDESC:Eventos para Facultad de Ciencia Política y RRII - UNR
REFRESH-INTERVAL;VALUE=DURATION:PT1H
X-Robots-Tag:noindex
X-PUBLISHED-TTL:PT1H
BEGIN:VTIMEZONE
TZID:America/Argentina/Buenos_Aires
BEGIN:STANDARD
TZOFFSETFROM:-0300
TZOFFSETTO:-0300
TZNAME:-03
DTSTART:20220101T000000
END:STANDARD
END:VTIMEZONE
BEGIN:VEVENT
DTSTART;TZID=America/Argentina/Buenos_Aires:20220915T173000
DTEND;TZID=America/Argentina/Buenos_Aires:20220915T200000
DTSTAMP:20260420T085854
CREATED:20220913T141918Z
LAST-MODIFIED:20220913T163337Z
UID:66081-1663263000-1663272000@fcpolit.unr.edu.ar
SUMMARY:Ciclo de debates “EL MUNDO DEL TRABAJO Y SUS NUEVOS DESAFÍOS”
DESCRIPTION:Comienza este Jueves 15 de Septiembre «Ciclo de Debates». Se estarán realizando tres (3) encuentros. \nEl programa invita a la reflexión y al debate comenzando desde los inicios del movimiento obrero\, sus derechos y en última instancia cómo pensar el trabajo hoy con los nuevos desafíos que se presentan. Para conocer más\, podes ingresar acá \nSe estará realizando en nuestra Facultad\, dentro del SUM Aulario. Los interesados/as en participar pueden ingresar y completar el formulario de inscripción: https://forms.gle/rLv88gKLHnXxht4PA 
URL:https://fcpolit.unr.edu.ar/event/ciclo-de-debates-el-mundo-del-trabajo-y-sus-nuevos-desafios/
LOCATION:Sum Aulario
CATEGORIES:Destacado
END:VEVENT
END:VCALENDAR