BEGIN:VCALENDAR
VERSION:2.0
PRODID:-//Facultad de Ciencia Política y RRII - UNR - ECPv6.6.0.2//NONSGML v1.0//EN
CALSCALE:GREGORIAN
METHOD:PUBLISH
X-ORIGINAL-URL:https://fcpolit.unr.edu.ar
X-WR-CALDESC:Eventos para Facultad de Ciencia Política y RRII - UNR
REFRESH-INTERVAL;VALUE=DURATION:PT1H
X-Robots-Tag:noindex
X-PUBLISHED-TTL:PT1H
BEGIN:VTIMEZONE
TZID:America/Argentina/Buenos_Aires
BEGIN:STANDARD
TZOFFSETFROM:-0300
TZOFFSETTO:-0300
TZNAME:-03
DTSTART:20210101T000000
END:STANDARD
END:VTIMEZONE
BEGIN:VEVENT
DTSTART;TZID=America/Argentina/Buenos_Aires:20210210T080000
DTEND;TZID=America/Argentina/Buenos_Aires:20211222T170000
DTSTAMP:20260421T010608
CREATED:20210210T163617Z
LAST-MODIFIED:20210301T193849Z
UID:50229-1612944000-1640192400@fcpolit.unr.edu.ar
SUMMARY:Reempadronamiento Anual Obligatorio a las carreras
DESCRIPTION:Según el Calendario Académico\, el período de Reempadronamiento Anual Obligatorio comienza para todas las carreras de la Facultad el 10 de febrero de 2021 y finaliza el 22 de diciembre de 2021 para la Lic. en Turismo y el 20 de diciembre para el resto de los trayectos de formación.
URL:https://fcpolit.unr.edu.ar/event/reempadronamiento-anual-obligatorio-a-las-carreras/
CATEGORIES:Destacado
END:VEVENT
BEGIN:VEVENT
DTSTART;VALUE=DATE:20210322
DTEND;VALUE=DATE:20211019
DTSTAMP:20260421T010608
CREATED:20210318T150707Z
LAST-MODIFIED:20210318T150842Z
UID:51394-1616371200-1634601599@fcpolit.unr.edu.ar
SUMMARY:Programa de Actualización Profesional en Intervención Social (Trabajo Social)
DESCRIPTION:El EVAC junto al Colegio de Profesionales del Trabajo Social de la 2° Circunscripción de Santa Fe y nuestra Escuela de Trabajo\, llevan adelante una nueva edición del Programa de Actualización Profesional en Intervención Social (Trabajo Social). \nEl mismo apunta a brindar recursos teórico-prácticos desde un enfoque de derechos para repensar las estrategias de intervención cotidianas de les profesionales del Trabajo Social y disciplinas afines en el actual contexto. \nDestinado a: Graduades de Trabajo Social y profesionales del campo de las Ciencias Sociales de Argentina y la región. \nModalidad de Cursada: a distancia por el Campus de la Universidad Nacional de Rosario. Puede cursarse por módulos o la totalidad del Programa. \nInicio: 22 de marzo (Primer cuatrimestre: 4 cursos)  \nMódulo 1: Problemática Ética\nMódulo 2: Teoría de la Intervención Social y los Servicios Sociales\nMódulo 3: La Dimensión Instrumental de la Intervención Social\nMódulo 4: Institucionalidad Social \nVer más información del Programa y los Módulos \nPara consultas y/o inscripciones: entornovirtualfcpolit@gmail.com
URL:https://fcpolit.unr.edu.ar/event/programa-de-actualizacion-profesional-en-intervencion-social-trabajo-social/
CATEGORIES:evac2021
END:VEVENT
BEGIN:VEVENT
DTSTART;TZID=America/Argentina/Buenos_Aires:20211013T103000
DTEND;TZID=America/Argentina/Buenos_Aires:20211013T233000
DTSTAMP:20260421T010608
CREATED:20210929T140748Z
LAST-MODIFIED:20210930T140848Z
UID:56078-1634121000-1634167800@fcpolit.unr.edu.ar
SUMMARY:El antiimperialismo en América Latina. Atilio Borón conversa con estudiantes.
DESCRIPTION:El próximo miércoles 13 de octubre a las 10.30hs. por el canal de youtube de la fcpolit\, el sociólogo\, politólogo\, catedrático y escritor argentino\, Atilio Borón participará de una charla con la cátedra de Pensamiento Social y Político Latinoamericano de nuestra carrera de Ciencia Política. \nLa actividad será transmitida aquí.
URL:https://fcpolit.unr.edu.ar/event/el-antiimperialismo-en-america-latina-atilio-boron-conversa-con-estudiantes/
LOCATION:Youtube
CATEGORIES:Destacado
ATTACH;FMTTYPE=image/jpeg:https://fcpolit.unr.edu.ar/wp-content/uploads/2021/09/unnamed.jpg
END:VEVENT
BEGIN:VEVENT
DTSTART;TZID=America/Argentina/Buenos_Aires:20211013T133000
DTEND;TZID=America/Argentina/Buenos_Aires:20211013T153000
DTSTAMP:20260421T010608
CREATED:20211006T144907Z
LAST-MODIFIED:20211006T144907Z
UID:56367-1634131800-1634139000@fcpolit.unr.edu.ar
SUMMARY:La Fcpolit escenario de debate político
DESCRIPTION:El próximo miércoles 13 de octubre a las 13.30 horas\, nuestra Facultad recibirá a las y los candidatos a Concejales/as de la ciudad de Rosario. El debate será transmitido en vivo por Youtube para toda la comunidad. \nLisandro Cavatorta (Frente de Todos)\, Anita Martínez (Juntos por el cambio)\, Juan Monteverde (Ciudad Futura)\, Ciro Seisas (Frente Progresista) y Miguel Tessandori  (Alianza Mejor) las 5 fuerzas más votadas en las elecciones P.A.S.O del 12 de Septiembre darán debate en la Fcpolit. \nLa actividad es organizada desde la Facultad conjuntamente con la conducción del CESOC (Frente Estudiantil de Unidad Rodolfo Walsh – 12 de Mayo). \nSe realizará en el aula 103 con acceso limitado y será transmitido por el canal de youtube oficial de la Fcpolit: youtube.com/fcpolitunr/live \nSe debatirá en torno a 4 ejes: Seguridad: integración y violencia; Juventudes: acceso a la vivienda\, cultura y educación; Economía y sustentabilidad: alimento\, trabajo\, ambientalismo y finalmente\, Igualdad e inclusión: feminismos y disidencias.
URL:https://fcpolit.unr.edu.ar/event/la-fcpolit-escenario-de-debate-politico/
CATEGORIES:Destacado
ATTACH;FMTTYPE=image/png:https://fcpolit.unr.edu.ar/wp-content/uploads/2021/10/Feed-IG-PRO-15.png
END:VEVENT
BEGIN:VEVENT
DTSTART;TZID=America/Argentina/Buenos_Aires:20211015T110000
DTEND;TZID=America/Argentina/Buenos_Aires:20211015T120000
DTSTAMP:20260421T010608
CREATED:20211014T135145Z
LAST-MODIFIED:20211014T135145Z
UID:56634-1634295600-1634299200@fcpolit.unr.edu.ar
SUMMARY:Conversatorio "Las Naciones Unidas y el Multilateralismo hoy"
DESCRIPTION:Conversatorio «Las Naciones Unidas y el Multilateralismo hoy»\, a cargo de la Embajadora María del Carmen Squeff\, Representante Permanente de Argentina ante las Naciones Unidas.\n\nEl link de inscripción es: bit.ly/conversatoriorrii\n\nOrganizado por la Escuela de RRII de la Facultad de Ciencia Política y RRII-UNR\, y el Centro de Estudios en Relaciones Internacionales de Rosario (CERIR).\n\nViernes 15 de octubre a las 11 hs. a través de Google Meet.
URL:https://fcpolit.unr.edu.ar/event/conversatorio-las-naciones-unidas-y-el-multilateralismo-hoy/
CATEGORIES:Destacado
ATTACH;FMTTYPE=image/png:https://fcpolit.unr.edu.ar/wp-content/uploads/2021/10/Flyer-conversatorio-15-10-21.png
END:VEVENT
END:VCALENDAR