BEGIN:VCALENDAR
VERSION:2.0
PRODID:-//Facultad de Ciencia Política y RRII - UNR - ECPv6.6.0.2//NONSGML v1.0//EN
CALSCALE:GREGORIAN
METHOD:PUBLISH
X-ORIGINAL-URL:https://fcpolit.unr.edu.ar
X-WR-CALDESC:Eventos para Facultad de Ciencia Política y RRII - UNR
REFRESH-INTERVAL;VALUE=DURATION:PT1H
X-Robots-Tag:noindex
X-PUBLISHED-TTL:PT1H
BEGIN:VTIMEZONE
TZID:America/Argentina/Buenos_Aires
BEGIN:STANDARD
TZOFFSETFROM:-0300
TZOFFSETTO:-0300
TZNAME:-03
DTSTART:20210101T000000
END:STANDARD
TZID:UTC
BEGIN:STANDARD
TZOFFSETFROM:+0000
TZOFFSETTO:+0000
TZNAME:UTC
DTSTART:20210101T000000
END:STANDARD
END:VTIMEZONE
BEGIN:VEVENT
DTSTART;TZID=America/Argentina/Buenos_Aires:20210210T080000
DTEND;TZID=America/Argentina/Buenos_Aires:20211222T170000
DTSTAMP:20260422T235147
CREATED:20210210T163617Z
LAST-MODIFIED:20210301T193849Z
UID:50229-1612944000-1640192400@fcpolit.unr.edu.ar
SUMMARY:Reempadronamiento Anual Obligatorio a las carreras
DESCRIPTION:Según el Calendario Académico\, el período de Reempadronamiento Anual Obligatorio comienza para todas las carreras de la Facultad el 10 de febrero de 2021 y finaliza el 22 de diciembre de 2021 para la Lic. en Turismo y el 20 de diciembre para el resto de los trayectos de formación.
URL:https://fcpolit.unr.edu.ar/event/reempadronamiento-anual-obligatorio-a-las-carreras/
CATEGORIES:Destacado
END:VEVENT
BEGIN:VEVENT
DTSTART;TZID=America/Argentina/Buenos_Aires:20211108T080000
DTEND;TZID=America/Argentina/Buenos_Aires:20211111T170000
DTSTAMP:20260422T235147
CREATED:20211103T124210Z
LAST-MODIFIED:20211103T124210Z
UID:57908-1636358400-1636650000@fcpolit.unr.edu.ar
SUMMARY:Simposio "El trabajo en tiempos de incertidumbre\, la acción colectiva y la respuesta desde las políticas públicas"
DESCRIPTION:Simposio «El trabajo en tiempos de incertidumbre\, la acción colectiva y la respuesta desde las políticas públicas» organizado por el Centro de Investigaciones y Estudios del Trabajo (CIET).\n\nEl mismo se desarrollará los días lunes 8 y martes 9 de noviembre en el marco del XIV Congreso Nacional y VII Congreso Internacional sobre Democracia organizado por la Facultad de Ciencia Política y Relaciones Internacionales de la Universidad Nacional de Rosario.\n\nContará con diferentes actividades durante los dos días: paneles\, conferencias y presentación de libro\, todas con modalidad presencial y transmisión en vivo.\n\nLes adjuntamos el programa para más información. En el documento podrán encontrar el link de transmisión para ambos días: https://meet.google.com/wkb-fvyw-ozd\n\nPrograma final
URL:https://fcpolit.unr.edu.ar/event/simposio-el-trabajo-en-tiempos-de-incertidumbre-la-accion-colectiva-y-la-respuesta-desde-las-politicas-publicas/
CATEGORIES:Destacado
END:VEVENT
BEGIN:VEVENT
DTSTART;TZID=UTC:20211108T080000
DTEND;TZID=UTC:20211113T200000
DTSTAMP:20260422T235147
CREATED:20211027T035533Z
LAST-MODIFIED:20211028T141311Z
UID:5986-1636358400-1636833600@fcpolit.unr.edu.ar
SUMMARY:Congreso Nacional e Internacional sobre Democracia y Congreso SAAP-UNR
DESCRIPTION:2 Congresos en 1\n\n\n\n\n\n\nCon motivo de la pandemia el Congreso sobre Democracia fue reprogramado para realizarse del 8 al 13 de noviembre de 2021. \nEn esta oportunidad se desarrollará durante la misma semana y en el mismo ámbito que el Congreso Nacional de Ciencia Política de la Sociedad Argentina de Análisis Político (SAAP). \nLa UNR será así sede por segunda vez del Congreso de la SAAP\, el acontecimiento académico más importante de la Ciencia Política de nuestro país y uno de los más importantes de la disciplina a nivel internacional. \nUna oportunidad para articular esfuerzos institucionales\, convocar de manera amplia a la comunidad politológica y a especialistas de diversas disciplinas de la comunicación\, el trabajo social\, el turismo\, entre otras. \nAmbos congresos tendrán lugar a lo largo de una semana para favorecer el desarrollo de las múltiples actividades. Se realizarán en un marco de protocolos de cuidado\, de acuerdo a las condiciones epidemiológicas de la ciudad de Rosario en el mes de noviembre. \n\n\n\n\n\n\nLa pandemia impidió que durante el 2020 tuviera lugar nuestro tradicional y querido Congreso sobre Democracia. Durante el 2021 nos proponemos celebrar\, del 8 al 13 de Noviembre\, el reencuentro de docentes\, investigadores/as y estudiantes en la FCPOLIT. \nSi la situación sanitaria no lo permitiera el Congreso será enteramente virtual. \n  \nMÁS INFO DEL EVENTO ➡ fcpolit.unr.edu.ar/congreso
URL:https://fcpolit.unr.edu.ar/event/congreso/
LOCATION:fcpolit
CATEGORIES:Destacado
ATTACH;FMTTYPE=image/png:https://fcpolit.unr.edu.ar/wp-content/uploads/2021/04/SAAP.png
ORGANIZER;CN="Kingster's Social Club":MAILTO:clubs@kingsteruni.edu
END:VEVENT
BEGIN:VEVENT
DTSTART;TZID=America/Argentina/Buenos_Aires:20211108T160000
DTEND;TZID=America/Argentina/Buenos_Aires:20211108T180000
DTSTAMP:20260422T235147
CREATED:20211103T124514Z
LAST-MODIFIED:20211103T124722Z
UID:57912-1636387200-1636394400@fcpolit.unr.edu.ar
SUMMARY:Mesa redonda. Narrativas digitales en la comunicación de las organizaciones.
DESCRIPTION:Eugenia Etkin: Dra. en Comunicación. Especializada en organizaciones de la Soc. civil (UNISAL-UCES)\nAndrés Alarcón: Lic. en Artes Dramáticas en IUNA. Coordinador de contenidos de @usamoficial (UNSAM)\nMaría Carreras: Esp. en Comunicación Digital Interactiva. Secretaria de Comunicación y Medios en @fcpolitunr (UNR)\nClarisa Ramachotti: Lic. y Prof. en Comunicación Social. Coordinación de contenidos en @fcpolitunr (UNR)\nCoordina: Leticia Giaccaglia (UNR)\nAULA: 305
URL:https://fcpolit.unr.edu.ar/event/mesa-redonda-narrativas-digitales-en-la-comunicacion-de-las-organizaciones/
CATEGORIES:Destacado
END:VEVENT
BEGIN:VEVENT
DTSTART;TZID=America/Argentina/Buenos_Aires:20211109T160000
DTEND;TZID=America/Argentina/Buenos_Aires:20211109T180000
DTSTAMP:20260422T235147
CREATED:20211103T125300Z
LAST-MODIFIED:20211103T125300Z
UID:57921-1636473600-1636480800@fcpolit.unr.edu.ar
SUMMARY:SIMPOSIO Turismo y Ciencias Sociales. PANEL ESPECIAL: Ciudades y Turismo: desafíos y reconfiguraciones en tiempo de (pos) pandemia.
DESCRIPTION:Mariela Demarchi y Néstor Javier Gómez (CONICET-UNL)\nCoordina: Elián Babini (UNR)\nAULA: 201
URL:https://fcpolit.unr.edu.ar/event/simposio-turismo-y-ciencias-sociales-panel-especial-ciudades-y-turismo-desafios-y-reconfiguraciones-en-tiempo-de-pos-pandemia/
CATEGORIES:Destacado
END:VEVENT
BEGIN:VEVENT
DTSTART;TZID=America/Argentina/Buenos_Aires:20211110T110000
DTEND;TZID=America/Argentina/Buenos_Aires:20211110T130000
DTSTAMP:20260422T235147
CREATED:20211103T125045Z
LAST-MODIFIED:20211103T125045Z
UID:57919-1636542000-1636549200@fcpolit.unr.edu.ar
SUMMARY:Panel Especial.  “Vivir en las redes: comunicar\, influenciar y persuadir. Comunicadores/as en acción”
DESCRIPTION:Organizado por la Secretaría de Comunicación y Gestión de Medios Fcpolit. \nTomás Quintín Palma @tomasquintinpalma; Nano Catalá @nanocatala; María Dana @meri.d; Marou Rivero @marourivero; Lessi @intravenous_sugar; Ignacio Novisky @chonanovisky\nCoordinan: María Carreras (UNR) y Clarisa Ramachotti (UNR) \nAULA: Auditorio Edificio UNR Innova
URL:https://fcpolit.unr.edu.ar/event/panel-especial-vivir-en-las-redes-comunicar-influenciar-y-persuadir-comunicadores-as-en-accion/
CATEGORIES:Destacado
END:VEVENT
BEGIN:VEVENT
DTSTART;TZID=America/Argentina/Buenos_Aires:20211127T090000
DTEND;TZID=America/Argentina/Buenos_Aires:20211127T113000
DTSTAMP:20260422T235147
CREATED:20211117T153021Z
LAST-MODIFIED:20211117T153802Z
UID:58752-1638003600-1638012600@fcpolit.unr.edu.ar
SUMMARY:Charla para ingresantes 2022
DESCRIPTION:Recibiremos a los y las aspirantes a ingresar a nuestras carreras con una charla de introducción académica. Se realizará el próximo sábado 27 de octubre a las 9 horas en nuestra aula 103. La actividad es presencial y no requiere inscripción previa. \nLa jornada tendrá como objetivo específico brindar información sobre los planes de estudio\, los perfiles y la inserción laboral de las carreras de grado y pregrado que se dictan en esta casa de estudios. \nConstará de una presentación institucional a cargo del Decano\, la Secretaria Académica y el Secretario Estudiantil. Luego los/las Directores/as de las distintas Escuelas conversaran con interesados e interesadas de cada carrera. \n¡Los y las esperamos!
URL:https://fcpolit.unr.edu.ar/event/charla-ingreso-2022/
CATEGORIES:Destacado
END:VEVENT
BEGIN:VEVENT
DTSTART;TZID=America/Argentina/Buenos_Aires:20211129T190000
DTEND;TZID=America/Argentina/Buenos_Aires:20211129T200000
DTSTAMP:20260422T235147
CREATED:20211119T132548Z
LAST-MODIFIED:20211130T140127Z
UID:59118-1638212400-1638216000@fcpolit.unr.edu.ar
SUMMARY:Inauguración del AULARIO
DESCRIPTION:
URL:https://fcpolit.unr.edu.ar/event/inauguracion-del-aulario/
CATEGORIES:Destacado
END:VEVENT
END:VCALENDAR