BEGIN:VCALENDAR
VERSION:2.0
PRODID:-//Facultad de Ciencia Política y RRII - UNR - ECPv6.6.0.2//NONSGML v1.0//EN
CALSCALE:GREGORIAN
METHOD:PUBLISH
X-WR-CALNAME:Facultad de Ciencia Política y RRII - UNR
X-ORIGINAL-URL:https://fcpolit.unr.edu.ar
X-WR-CALDESC:Eventos para Facultad de Ciencia Política y RRII - UNR
REFRESH-INTERVAL;VALUE=DURATION:PT1H
X-Robots-Tag:noindex
X-PUBLISHED-TTL:PT1H
BEGIN:VTIMEZONE
TZID:America/Argentina/Buenos_Aires
BEGIN:STANDARD
TZOFFSETFROM:-0300
TZOFFSETTO:-0300
TZNAME:-03
DTSTART:20220101T000000
END:STANDARD
END:VTIMEZONE
BEGIN:VEVENT
DTSTART;TZID=America/Argentina/Buenos_Aires:20220214T170000
DTEND;TZID=America/Argentina/Buenos_Aires:20220311T190000
DTSTAMP:20260423T041534
CREATED:20211120T153646Z
LAST-MODIFIED:20220208T191607Z
UID:58756-1644858000-1647025200@fcpolit.unr.edu.ar
SUMMARY:Cursillos de Ingreso 2022
DESCRIPTION:En la Facultad de Ciencia Política y Relaciones Internacionales\, el curso de ingreso es una instancia que tiene como objetivo dar la bienvenida a todos/as aquellos/as aspirantes a realizar alguna de las seis carreras de grado que se dictan aquí.\n\n\n\n\n\nPretende introducir a los y las ingresantes a las dinámicas institucionales\, a las prácticas de estudio propias del nivel universitario y está diseñado para que den inicio al abordaje de contenidos específicos de las Ciencias Sociales y las disciplinas elegidas. \nLa modalidad de asistencia es presencial no obligatoria\, a través de dos instancias: \nLa evaluación se desarrollará con diversos métodos a lo largo del dictado de cada uno de los módulos. Las mismas son concebidas como instancias de diagnóstico a los efectos de poder ofrecer mecanismos de apoyo para aquellos/as ingresantes que presenten dificultades para la comprensión de texto\, la redacción\, la expresión oral y el trabajo grupal. \n\n\n\n\n\nDictado 2022\n\n\n\n\n\nCursado: PRESENCIAL\nDictado: Lunes\, Miércoles y Viernes\nDuración: 11 Encuentros. Inicia 14 de Febrero / Finaliza 11 de Marzo\nHorario: 17 a 19 horas \n\n\n\n\n\n\n\nComisiones de cursado:\nLa asignación a las mismas es de manera automática.\nSi no figuras en el listado\, no completaste tu inscripción a la carrera o queres hacer un cambio de comisión podés asistir igual y el primer día indicarle tu situación a él/la docente a cargo.\nVer listado de comisiones
URL:https://fcpolit.unr.edu.ar/event/cursillo-2020/
CATEGORIES:Destacado
END:VEVENT
BEGIN:VEVENT
DTSTART;TZID=America/Argentina/Buenos_Aires:20220221T080000
DTEND;TZID=America/Argentina/Buenos_Aires:20220305T170000
DTSTAMP:20260423T041534
CREATED:20220218T121103Z
LAST-MODIFIED:20220218T121146Z
UID:59999-1645430400-1646499600@fcpolit.unr.edu.ar
SUMMARY:Maratón Audiovisual
DESCRIPTION:A partir del lunes 21 de Febrero la Fcpolit se convertirá en la locación de la segunda edición de la Maratón Audiovisual. Directores\, productores\, actores y equipo técnico están listos para comenzar a rodar. \nDespués de 10 años regresa de la mano de Unicanal y el Ministerio de Cultura de Santa Fe. En esta ocasión las/os realizadores audiovisuales de los 6 proyectos ganadores rodarán a partir del próximo 21 de Febrero hasta el 5 de Marzo en las instalaciones de nuestra Facultad. \nLa temática elegida para esta nueva edición será Malvinas\, en conmemoración del 40 aniversario. Se narrarán historias de ficción con una duración menor a 30 minutos con el objetivo de dar valor a la labor heroica de nuestros combatientes. Cada uno de estos proyectos será un capítulo\, de un conjunto de 6 episodios que formaran parte de una serie. \nEsta será una jornada importante para nuestra comunidad\, ya que docentes\, graduadas/os y técnicos de la Escuela de Comunicación Social serán parte de esta gran iniciativa. Además de una gran oportunidad para que nuestros estudiantes vivan de cerca esta experiencia audiovisual como espectador\, respirando el detrás de cámara. \nSeguí el minuto a minuto de la Maratón Audiovisual en nuestro Instagram.
URL:https://fcpolit.unr.edu.ar/event/maraton-audiovisual/
CATEGORIES:Destacado
ATTACH;FMTTYPE=image/jpeg:https://fcpolit.unr.edu.ar/wp-content/uploads/2022/02/maraton-audiovisual.jpg
END:VEVENT
BEGIN:VEVENT
DTSTART;TZID=America/Argentina/Buenos_Aires:20220309T080000
DTEND;TZID=America/Argentina/Buenos_Aires:20220311T170000
DTSTAMP:20260423T041534
CREATED:20220223T123325Z
LAST-MODIFIED:20220223T123325Z
UID:60303-1646812800-1647018000@fcpolit.unr.edu.ar
SUMMARY:Preinscripciones online para el ingreso 2022
DESCRIPTION:Última oportunidad para inscribirse a nuestras carreras. Si en Diciembre no realizaste la preinscripción\, podrás hacerlo durante estos 3 días únicamente\, 9\, 10 y 11 de Marzo por la web. \n\n\n\nEn esas fechas vas a tener que completar e imprimir un formulario en línea para solicitar tu turno de inscripción definitiva: \n\n\n\n\n\n\n\n\nSe realiza por internet completando en línea el formulario (SUR1).\nSe deberá seleccionar un turno de inscripción según la disponibilidad e imprimir el formulario al finalizar.\nSe habilitará únicamente los días 9\, 10 y 11 de marzo de 2022 en esta misma página.\n\nMás info: https://fcpolit.unr.edu.ar/ingresantes/ingreso/
URL:https://fcpolit.unr.edu.ar/event/preinscripciones-online-para-el-ingreso-2022/
CATEGORIES:Destacado
ATTACH;FMTTYPE=image/jpeg:https://fcpolit.unr.edu.ar/wp-content/uploads/2021/07/F0EC193F-AAFD-43BA-8E5D-93BBA9634348.jpeg
END:VEVENT
BEGIN:VEVENT
DTSTART;TZID=America/Argentina/Buenos_Aires:20220310T180000
DTEND;TZID=America/Argentina/Buenos_Aires:20220310T200000
DTSTAMP:20260423T041534
CREATED:20220309T160218Z
LAST-MODIFIED:20220309T161516Z
UID:60588-1646935200-1646942400@fcpolit.unr.edu.ar
SUMMARY:Taller Adaptación al Cambio Climático en el Delta del Paraná Medio
DESCRIPTION:Organizado por la Diplomatura en Gestión Política del Cambio Climático en América Latina y el Caribe de la Fcpolit\, conjuntamente con la Municipalidad de Rosario e ICLEI – Gobiernos Locales por la Sustentabilidad. \nEl taller es parte del trabajo del grupo de adaptación de la Diplomatura\, en colaboración con el Programa de Trabajo de Nairobi (NWP) de la Convención Marco de Naciones Unidas sobre Cambio Climático (CMNUCC) y con apoyo de la Alianza Internacional para la Investigación en Adaptación (ARA). \nTiene como objetivo reflexionar conjuntamente acerca de las principales brechas de conocimiento de adaptación y su vinculación con las vulnerabilidades claves en la zona del Delta Medio.
URL:https://fcpolit.unr.edu.ar/event/taller-adaptacion-al-cambio-climatico-en-el-delta-del-parana-medio/
LOCATION:Aula 304\, Ecuador
CATEGORIES:Destacado
END:VEVENT
BEGIN:VEVENT
DTSTART;TZID=America/Argentina/Buenos_Aires:20220310T190000
DTEND;TZID=America/Argentina/Buenos_Aires:20220310T210000
DTSTAMP:20260423T041534
CREATED:20220309T161325Z
LAST-MODIFIED:20220310T131442Z
UID:60595-1646938800-1646946000@fcpolit.unr.edu.ar
SUMMARY:Conferencia inaugural Diplomatura en Entornos Virtuales
DESCRIPTION:Te invitamos a participar de la  conferencia «Enseñar en la universidad que no vimos venir» a cargo de la Dra. Mariana Maggio (UBA). \nOrganizado por la Diplomatura de Estudios Avanzado en Entornos Virtuales de Enseñanza y Aprendizaje. \nLa misma será retransmitida a las 19 horas para toda la comunidad a través del  Canal de Youtube del Campus Virtual UNR.
URL:https://fcpolit.unr.edu.ar/event/conferencia-inaugural-diplomatura-en-entornos-virtuales/
CATEGORIES:Destacado
ATTACH;FMTTYPE=image/jpeg:https://fcpolit.unr.edu.ar/wp-content/uploads/2022/03/FlyerMaggio-scaled.jpg
END:VEVENT
BEGIN:VEVENT
DTSTART;VALUE=DATE:20220314
DTEND;VALUE=DATE:20220708
DTSTAMP:20260423T041534
CREATED:20220218T121624Z
LAST-MODIFIED:20220218T121722Z
UID:60001-1647216000-1657238399@fcpolit.unr.edu.ar
SUMMARY:Inicio dictado de clases
DESCRIPTION:El dictado de clases del primer cuatrimestre será del 14 de marzo al 24 de junio. \n1er año de Comunicación Social\, Trabajo Social y Prof. de Comunicación Educativa inician también el lunes 14/03 y finalizan el 08/07. \nConocé el día y horario de cursado de cada materia en Bedelía Virtual 
URL:https://fcpolit.unr.edu.ar/event/inicio-dictado-de-clases/
CATEGORIES:Destacado
ATTACH;FMTTYPE=image/jpeg:https://fcpolit.unr.edu.ar/wp-content/uploads/2021/12/agenda-1280x720x80xX.jpg
END:VEVENT
BEGIN:VEVENT
DTSTART;TZID=America/Argentina/Buenos_Aires:20220317T170000
DTEND;TZID=America/Argentina/Buenos_Aires:20220317T190000
DTSTAMP:20260423T041534
CREATED:20220314T143247Z
LAST-MODIFIED:20220314T143525Z
UID:60769-1647536400-1647543600@fcpolit.unr.edu.ar
SUMMARY:Conversatorio ¿Qué entendemos por el/la sujeto/a emprendedor/a? Miradas transnacionales desde la universidad y la gestión pública
DESCRIPTION:Se desarrollará de forma presencial  en el aula del Instituto de Investigaciones de la Facultad de Ciencia Política y Relaciones Internacionales (Andén del Centro Universitario Rosario – Riobamba 250 bis). \nContará con la participación de diferentes expositores en la temática de la economía social y solidaria\, el emprendedorismo en ámbitos universitarios y de la gestión pública:\n\n\nDra. Paloma Bel Duran (Profesora titular e investigadora de la Escuela de Estudios Cooperativos de la Universidad Complutense de Madrid).\n Lic. Conrado Cardile (Director de Vinculación Tecnológica de la Universidad Nacional de Rosario).\n Lic. Marta Sánchez Minarro (Directora de la Escuela de Emprendimientos Sociales de la Municipalidad de Rosario).\n\n\nOrganiza: Centro de Investigaciones y Estudios del Trabajo (CIET)\nCoordina: Lic. María de los Ángeles Dicapua (Centro de Investigaciones y Estudios del Trabajo – FCPOLIT-UNR)
URL:https://fcpolit.unr.edu.ar/event/conversatorio-que-entendemos-por-el-la-sujeto-a-emprendedor-a-miradas-transnacionales-desde-la-universidad-y-la-gestion-publica/
CATEGORIES:Destacado
ATTACH;FMTTYPE=image/png:https://fcpolit.unr.edu.ar/wp-content/uploads/2022/03/Conversatorio-CIET-17-3.png
END:VEVENT
BEGIN:VEVENT
DTSTART;TZID=America/Argentina/Buenos_Aires:20220322T180000
DTEND;TZID=America/Argentina/Buenos_Aires:20220322T200000
DTSTAMP:20260423T041534
CREATED:20220307T144239Z
LAST-MODIFIED:20220309T161100Z
UID:60536-1647972000-1647979200@fcpolit.unr.edu.ar
SUMMARY:Primer Encuentro de Capacitación de la Cátedra del Agua
DESCRIPTION:Capacitación de las Escuelas Itinerantes del Agua\, Clima y Consumidor \nEn el marco del Día Mundial del Agua\, un derecho humano esencial\, nos ayudamos ayudando al Paraná y al agua. \nLos interesados en participar deberán inscribirse  enviando un mail a: catedradelagua@yahoo.com.ar \nEsta actividad será presencial y gratuita. Al finalizar se otorgarán certificados. \nMartes 22/03\, 18:00hs\, Correo Argentino\, Córdoba 721 \n \n 
URL:https://fcpolit.unr.edu.ar/event/primer-encuentro-de-capacitacion-de-la-catedra-del-agua/
CATEGORIES:Destacado
ATTACH;FMTTYPE=image/jpeg:https://fcpolit.unr.edu.ar/wp-content/uploads/2022/03/catedra-del-agua.jpg
END:VEVENT
BEGIN:VEVENT
DTSTART;TZID=America/Argentina/Buenos_Aires:20220328T123000
DTEND;TZID=America/Argentina/Buenos_Aires:20220328T140000
DTSTAMP:20260423T041534
CREATED:20220325T135550Z
LAST-MODIFIED:20220325T135639Z
UID:61216-1648470600-1648476000@fcpolit.unr.edu.ar
SUMMARY:Conversatorio "De la UNR a Francia: formación académica y becas"
DESCRIPTION:La actividad se llevará a cabo el lunes 28 de marzo a las 12.30 hs en Sede de Gobierno de la UNR.\nEn el encuentro se brindará información sobre las oportunidades de formación académica y becas en Francia y las modalidades de las convocatorias.
URL:https://fcpolit.unr.edu.ar/event/conversatorio-de-la-unr-a-francia-formacion-academica-y-becas/
CATEGORIES:Destacado
ATTACH;FMTTYPE=image/jpeg:https://fcpolit.unr.edu.ar/wp-content/uploads/2022/03/De-la-UNR-a-Francia.jpeg
END:VEVENT
END:VCALENDAR